BEGIN:VCALENDAR
VERSION:2.0
PRODID:-//wp-events-plugin.com//7.2.3.1//EN
BEGIN:VEVENT
UID:18@ayurvedaassociation.ca
DTSTART:20240501T000000Z
DTEND:20240501T000000Z
DTSTAMP:20260402T124233Z
URL:https://ayurvedaassociation.ca/events/meet-greet-event/
SUMMARY:Meet & Greet Event
DESCRIPTION:A Meet and Greet event was held in Surrey\, BC\, bringing toget
 her Ayurveda professionals and enthusiasts to connect\, share knowledge\, 
 and strengthen the community.
LOCATION:Surrey\, Surrey\, BC\, 
X-APPLE-STRUCTURED-LOCATION;VALUE=URI;X-ADDRESS=Surrey\, BC\, ;X-APPLE-RADI
 US=100;X-TITLE=Surrey:geo:0,0
END:VEVENT
END:VCALENDAR