BEGIN:VCALENDAR
VERSION:2.0
PRODID:-//wp-events-plugin.com//7.2.3.1//EN
BEGIN:VEVENT
UID:17@ayurvedaassociation.ca
DTSTART:20240701T000000Z
DTEND:20240701T000000Z
DTSTAMP:20260402T123701Z
URL:https://ayurvedaassociation.ca/events/international-yoga-day/
SUMMARY:International Yoga Day
DESCRIPTION:International Yoga Day was celebrated in Vancouver\, BC\, raisi
 ng awareness about the benefits of yoga for physical\, mental\, and spirit
 ual well-being.
LOCATION:BC\, Vancouver\, BC\, 
X-APPLE-STRUCTURED-LOCATION;VALUE=URI;X-ADDRESS=Vancouver\, BC\, ;X-APPLE-R
 ADIUS=100;X-TITLE=BC:geo:0,0
END:VEVENT
END:VCALENDAR