BEGIN:VCALENDAR
VERSION:2.0
PRODID:-//wp-events-plugin.com//7.2.3.1//EN
BEGIN:VEVENT
UID:15@ayurvedaassociation.ca
DTSTART:20251001T000000Z
DTEND:20251001T000000Z
DTSTAMP:20260402T124233Z
URL:https://ayurvedaassociation.ca/events/cultural-event-support-indian-va
 ncouver-saree-seize/
SUMMARY:Cultural Event Support – Indian Vancouver Saree Seize
DESCRIPTION:AAC supported a cultural event organized by Indian Vancouver Sa
 ree Seize\, a large women’s collective in the Indo-Canadian community\, 
 promoting and preserving the cultural heritage of India.
LOCATION:BC\, Vancouver\, BC\, 
X-APPLE-STRUCTURED-LOCATION;VALUE=URI;X-ADDRESS=Vancouver\, BC\, ;X-APPLE-R
 ADIUS=100;X-TITLE=BC:geo:0,0
END:VEVENT
END:VCALENDAR