BEGIN:VCALENDAR
VERSION:2.0
PRODID:-//wp-events-plugin.com//7.2.3.1//EN
BEGIN:VEVENT
UID:19@ayurvedaassociation.ca
DTSTART;VALUE=DATE:20231001
DTEND;VALUE=DATE:20231002
DTSTAMP:20260402T125527Z
URL:https://ayurvedaassociation.ca/events/ayurveda-day-panel-discussion/
SUMMARY:Ayurveda Day Panel Discussion
DESCRIPTION:An Ayurveda Day panel discussion was conducted in Vancouver\, B
 C\, featuring experts who shared insights on Ayurvedic practices and their
  relevance in modern healthcare.
LOCATION:BC\, Vancouver\, BC\, 
X-APPLE-STRUCTURED-LOCATION;VALUE=URI;X-ADDRESS=Vancouver\, BC\, ;X-APPLE-R
 ADIUS=100;X-TITLE=BC:geo:0,0
END:VEVENT
END:VCALENDAR