BEGIN:VCALENDAR
VERSION:2.0
PRODID:-//wp-events-plugin.com//7.2.3.1//EN
BEGIN:VEVENT
UID:14@ayurvedaassociation.ca
DTSTART:20251101T000000Z
DTEND:20251101T000000Z
DTSTAMP:20260402T122903Z
URL:https://ayurvedaassociation.ca/events/ayurveda-awareness-event-agni-2/
SUMMARY:Ayurveda Awareness Event – Agni
DESCRIPTION:An Ayurveda Awareness Event focused on Agni (digestive fire) wa
 s held in Vancouver\, BC. The session highlighted key Ayurvedic principles
  for improving digestion\, overall health\, and balanced living.
LOCATION:BC\, Vancouver\, BC\, 
X-APPLE-STRUCTURED-LOCATION;VALUE=URI;X-ADDRESS=Vancouver\, BC\, ;X-APPLE-R
 ADIUS=100;X-TITLE=BC:geo:0,0
END:VEVENT
END:VCALENDAR